BEGIN:VCALENDAR
VERSION:2.0
PRODID:-//eventon.com NONSGML v1.0//EN
BEGIN:VEVENT
UID:69e7a73f1120a
DTSTAMP:20260421T163511
DTSTART:20231031T000000Z
DTEND:20231031T235900Z
LOCATION:
SUMMARY:Elias Oegel (Geburtstag)
DESCRIPTION: 2007
END:VEVENT
END:VCALENDAR