BEGIN:VCALENDAR
VERSION:2.0
PRODID:-//eventon.com NONSGML v1.0//EN
BEGIN:VEVENT
UID:69e7bbe601cbc
DTSTAMP:20260421T180318
DTSTART:20071031T000000Z
DTEND:20071031T235900Z
LOCATION:
SUMMARY:Elias Oegel (Geburtstag)
DESCRIPTION: 2007
END:VEVENT
END:VCALENDAR