BEGIN:VCALENDAR
VERSION:2.0
PRODID:-//eventon.com NONSGML v1.0//EN
BEGIN:VEVENT
UID:69e9da0201beb
DTSTAMP:20260423T083618
DTSTART:20151218T000000Z
DTEND:20151218T235900Z
LOCATION:
SUMMARY:Louis Lux (Geburtstag)
DESCRIPTION: 2013
END:VEVENT
END:VCALENDAR