BEGIN:VCALENDAR
VERSION:2.0
PRODID:-//eventon.com NONSGML v1.0//EN
BEGIN:VEVENT
UID:69e7526283a95
DTSTAMP:20260421T103306
DTSTART:20241115T183000Z
DTEND:20241115T235000Z
LOCATION:Sporthalle Woltersdorf Hochlandstraße 11A\,  15569 Woltersdorf
SUMMARY:SV Woltersdorf II vs. BSG Pneumant Fürstenwalde III
DESCRIPTION: SV Woltersdorf II vs. BSG Pneumant Fürstenwalde III
END:VEVENT
END:VCALENDAR