BEGIN:VCALENDAR
VERSION:2.0
PRODID:-//eventon.com NONSGML v1.0//EN
BEGIN:VEVENT
UID:69e6c6c55ffb3
DTSTAMP:20260421T003725
DTSTART:19701206T000000Z
DTEND:19701206T235900Z
LOCATION:
SUMMARY:Bernd Fischer (Geburtstag)
DESCRIPTION: 1970
END:VEVENT
END:VCALENDAR