BEGIN:VCALENDAR
VERSION:2.0
PRODID:-//eventon.com NONSGML v1.0//EN
BEGIN:VEVENT
UID:69e85df22bc2f
DTSTAMP:20260422T053442
DTSTART:20480810T000000Z
DTEND:20480810T235900Z
LOCATION:
SUMMARY:Joachim Gronau (Geburtstag)
DESCRIPTION: 1949
END:VEVENT
END:VCALENDAR