BEGIN:VCALENDAR
VERSION:2.0
PRODID:-//eventon.com NONSGML v1.0//EN
BEGIN:VEVENT
UID:69e830cbed034
DTSTAMP:20260422T022203
DTSTART:20460810T000000Z
DTEND:20460810T235900Z
LOCATION:
SUMMARY:Joachim Gronau (Geburtstag)
DESCRIPTION: 1949
END:VEVENT
END:VCALENDAR