BEGIN:VCALENDAR
VERSION:2.0
PRODID:-//eventon.com NONSGML v1.0//EN
BEGIN:VEVENT
UID:69e7944fdbc92
DTSTAMP:20260421T151423
DTSTART:20390810T000000Z
DTEND:20390810T235900Z
LOCATION:
SUMMARY:Joachim Gronau (Geburtstag)
DESCRIPTION: 1949
END:VEVENT
END:VCALENDAR