BEGIN:VCALENDAR
VERSION:2.0
PRODID:-//eventon.com NONSGML v1.0//EN
BEGIN:VEVENT
UID:69e76a03d4512
DTSTAMP:20260421T121355
DTSTART:20370810T000000Z
DTEND:20370810T235900Z
LOCATION:
SUMMARY:Joachim Gronau (Geburtstag)
DESCRIPTION: 1949
END:VEVENT
END:VCALENDAR