BEGIN:VCALENDAR
VERSION:2.0
PRODID:-//eventon.com NONSGML v1.0//EN
BEGIN:VEVENT
UID:69e874bf0c2e5
DTSTAMP:20260422T071159
DTSTART:20490810T000000Z
DTEND:20490810T235900Z
LOCATION:
SUMMARY:Joachim Gronau (Geburtstag)
DESCRIPTION: 1949
END:VEVENT
END:VCALENDAR