BEGIN:VCALENDAR
VERSION:2.0
PRODID:-//eventon.com NONSGML v1.0//EN
BEGIN:VEVENT
UID:69e9d5f41fcda
DTSTAMP:20260423T081900
DTSTART:20950707T000000Z
DTEND:20950707T235900Z
LOCATION:
SUMMARY:Thora Brandscheid (Geburtstag)
DESCRIPTION: 1998
END:VEVENT
END:VCALENDAR