BEGIN:VCALENDAR
VERSION:2.0
PRODID:-//eventon.com NONSGML v1.0//EN
BEGIN:VEVENT
UID:69e8b0842ce08
DTSTAMP:20260422T112700
DTSTART:20820707T000000Z
DTEND:20820707T235900Z
LOCATION:
SUMMARY:Thora Brandscheid (Geburtstag)
DESCRIPTION: 1998
END:VEVENT
END:VCALENDAR