BEGIN:VCALENDAR
VERSION:2.0
PRODID:-//eventon.com NONSGML v1.0//EN
BEGIN:VEVENT
UID:69e812d90e77d
DTSTAMP:20260422T001417
DTSTART:20750707T000000Z
DTEND:20750707T235900Z
LOCATION:
SUMMARY:Thora Brandscheid (Geburtstag)
DESCRIPTION: 1998
END:VEVENT
END:VCALENDAR