BEGIN:VCALENDAR
VERSION:2.0
PRODID:-//eventon.com NONSGML v1.0//EN
BEGIN:VEVENT
UID:69e760a2cb483
DTSTAMP:20260421T113354
DTSTART:20670707T000000Z
DTEND:20670707T235900Z
LOCATION:
SUMMARY:Thora Brandscheid (Geburtstag)
DESCRIPTION: 1998
END:VEVENT
END:VCALENDAR