BEGIN:VCALENDAR
VERSION:2.0
PRODID:-//eventon.com NONSGML v1.0//EN
BEGIN:VEVENT
UID:69e708b252a4b
DTSTAMP:20260421T051842
DTSTART:20630707T000000Z
DTEND:20630707T235900Z
LOCATION:
SUMMARY:Thora Brandscheid (Geburtstag)
DESCRIPTION: 1998
END:VEVENT
END:VCALENDAR