BEGIN:VCALENDAR
VERSION:2.0
PRODID:-//eventon.com NONSGML v1.0//EN
BEGIN:VEVENT
UID:69e8baed669e1
DTSTAMP:20260422T121125
DTSTART:20530528T000000Z
DTEND:20530528T235900Z
LOCATION:
SUMMARY:Ernst Hillmann (Geburtstag)
DESCRIPTION: Ernst Hillmann (Geburtstag)
END:VEVENT
END:VCALENDAR