BEGIN:VCALENDAR
VERSION:2.0
PRODID:-//eventon.com NONSGML v1.0//EN
BEGIN:VEVENT
UID:69e87c8e36232
DTSTAMP:20260422T074518
DTSTART:20500528T000000Z
DTEND:20500528T235900Z
LOCATION:
SUMMARY:Ernst Hillmann (Geburtstag)
DESCRIPTION: Ernst Hillmann (Geburtstag)
END:VEVENT
END:VCALENDAR