BEGIN:VCALENDAR
VERSION:2.0
PRODID:-//eventon.com NONSGML v1.0//EN
BEGIN:VEVENT
UID:69e800f4ab4f6
DTSTAMP:20260421T225756
DTSTART:20450528T000000Z
DTEND:20450528T235900Z
LOCATION:
SUMMARY:Ernst Hillmann (Geburtstag)
DESCRIPTION: Ernst Hillmann (Geburtstag)
END:VEVENT
END:VCALENDAR