BEGIN:VCALENDAR
VERSION:2.0
PRODID:-//eventon.com NONSGML v1.0//EN
BEGIN:VEVENT
UID:69e7d3fe2c63e
DTSTAMP:20260421T194606
DTSTART:20430528T000000Z
DTEND:20430528T235900Z
LOCATION:
SUMMARY:Ernst Hillmann (Geburtstag)
DESCRIPTION: Ernst Hillmann (Geburtstag)
END:VEVENT
END:VCALENDAR