BEGIN:VCALENDAR
VERSION:2.0
PRODID:-//eventon.com NONSGML v1.0//EN
BEGIN:VEVENT
UID:69e792772d385
DTSTAMP:20260421T150631
DTSTART:20400528T000000Z
DTEND:20400528T235900Z
LOCATION:
SUMMARY:Ernst Hillmann (Geburtstag)
DESCRIPTION: Ernst Hillmann (Geburtstag)
END:VEVENT
END:VCALENDAR