BEGIN:VCALENDAR
VERSION:2.0
PRODID:-//eventon.com NONSGML v1.0//EN
BEGIN:VEVENT
UID:69e8342c7dd8d
DTSTAMP:20260422T023628
DTSTART:20470704T000000Z
DTEND:20470704T235900Z
LOCATION:
SUMMARY:Günter Rehwinkel (Geburtstag)
DESCRIPTION: 1948
END:VEVENT
END:VCALENDAR