BEGIN:VCALENDAR
VERSION:2.0
PRODID:-//eventon.com NONSGML v1.0//EN
BEGIN:VEVENT
UID:69e81a1cbb829
DTSTAMP:20260422T004516
DTSTART:20460704T000000Z
DTEND:20460704T235900Z
LOCATION:
SUMMARY:Günter Rehwinkel (Geburtstag)
DESCRIPTION: 1948
END:VEVENT
END:VCALENDAR