BEGIN:VCALENDAR
VERSION:2.0
PRODID:-//eventon.com NONSGML v1.0//EN
BEGIN:VEVENT
UID:69e7aa8ba750e
DTSTAMP:20260421T164915
DTSTART:20410704T000000Z
DTEND:20410704T235900Z
LOCATION:
SUMMARY:Günter Rehwinkel (Geburtstag)
DESCRIPTION: 1948
END:VEVENT
END:VCALENDAR