BEGIN:VCALENDAR
VERSION:2.0
PRODID:-//eventon.com NONSGML v1.0//EN
BEGIN:VEVENT
UID:69e74d4bbec08
DTSTAMP:20260421T101123
DTSTART:20370704T000000Z
DTEND:20370704T235900Z
LOCATION:
SUMMARY:Günter Rehwinkel (Geburtstag)
DESCRIPTION: 1948
END:VEVENT
END:VCALENDAR