BEGIN:VCALENDAR
VERSION:2.0
PRODID:-//eventon.com NONSGML v1.0//EN
BEGIN:VEVENT
UID:69e76635aac59
DTSTAMP:20260421T115741
DTSTART:19480704T000000Z
DTEND:19480704T235900Z
LOCATION:
SUMMARY:Günter Rehwinkel (Geburtstag)
DESCRIPTION: 1948
END:VEVENT
END:VCALENDAR