BEGIN:VCALENDAR
VERSION:2.0
PRODID:-//eventon.com NONSGML v1.0//EN
BEGIN:VEVENT
UID:69ecf1a0918fa
DTSTAMP:20260425T165352
DTSTART:19700101T000000Z
DTEND:19700101T000000Z
LOCATION:
SUMMARY:Gina Lorenz (Geburtstag)
DESCRIPTION: 1993
END:VEVENT
END:VCALENDAR