BEGIN:VCALENDAR
VERSION:2.0
PRODID:-//eventon.com NONSGML v1.0//EN
BEGIN:VEVENT
UID:69e9f0cc3d078
DTSTAMP:20260423T101332
DTSTART:20370629T000000Z
DTEND:20370629T235900Z
LOCATION:
SUMMARY:Gina Lorenz (Geburtstag)
DESCRIPTION: 1993
END:VEVENT
END:VCALENDAR