BEGIN:VCALENDAR
VERSION:2.0
PRODID:-//eventon.com NONSGML v1.0//EN
BEGIN:VEVENT
UID:69e9df8ba7157
DTSTAMP:20260423T085955
DTSTART:20360629T000000Z
DTEND:20360629T235900Z
LOCATION:
SUMMARY:Gina Lorenz (Geburtstag)
DESCRIPTION: 1993
END:VEVENT
END:VCALENDAR