BEGIN:VCALENDAR
VERSION:2.0
PRODID:-//eventon.com NONSGML v1.0//EN
BEGIN:VEVENT
UID:69ec3b1b8d223
DTSTAMP:20260425T035507
DTSTART:19930629T000000Z
DTEND:19930629T235900Z
LOCATION:
SUMMARY:Gina Lorenz (Geburtstag)
DESCRIPTION: 1993
END:VEVENT
END:VCALENDAR