BEGIN:VCALENDAR
VERSION:2.0
PRODID:-//eventon.com NONSGML v1.0//EN
BEGIN:VEVENT
UID:69e8eb6f555fa
DTSTAMP:20260422T153823
DTSTART:20550625T000000Z
DTEND:20550625T235900Z
LOCATION:
SUMMARY:Robert Johann (Geburtstag)
DESCRIPTION: 1962
END:VEVENT
END:VCALENDAR