BEGIN:VCALENDAR
VERSION:2.0
PRODID:-//eventon.com NONSGML v1.0//EN
BEGIN:VEVENT
UID:69e7f7fbd4d31
DTSTAMP:20260421T221939
DTSTART:20450625T000000Z
DTEND:20450625T235900Z
LOCATION:
SUMMARY:Robert Johann (Geburtstag)
DESCRIPTION: 1962
END:VEVENT
END:VCALENDAR