BEGIN:VCALENDAR
VERSION:2.0
PRODID:-//eventon.com NONSGML v1.0//EN
BEGIN:VEVENT
UID:69e7b5c6ee9bb
DTSTAMP:20260421T173710
DTSTART:20420625T000000Z
DTEND:20420625T235900Z
LOCATION:
SUMMARY:Robert Johann (Geburtstag)
DESCRIPTION: 1962
END:VEVENT
END:VCALENDAR