BEGIN:VCALENDAR
VERSION:2.0
PRODID:-//eventon.com NONSGML v1.0//EN
BEGIN:VEVENT
UID:69e9856437c53
DTSTAMP:20260423T023516
DTSTART:20620625T000000Z
DTEND:20620625T235900Z
LOCATION:
SUMMARY:Robert Johann (Geburtstag)
DESCRIPTION: 1962
END:VEVENT
END:VCALENDAR