BEGIN:VCALENDAR
VERSION:2.0
PRODID:-//eventon.com NONSGML v1.0//EN
BEGIN:VEVENT
UID:69e73a44d85a7
DTSTAMP:20260421T085012
DTSTART:19620625T000000Z
DTEND:19620625T235900Z
LOCATION:
SUMMARY:Robert Johann (Geburtstag)
DESCRIPTION: 1962
END:VEVENT
END:VCALENDAR