BEGIN:VCALENDAR
VERSION:2.0
PRODID:-//eventon.com NONSGML v1.0//EN
BEGIN:VEVENT
UID:69ed1c54dd883
DTSTAMP:20260425T195604
DTSTART:20740609T000000Z
DTEND:20740609T235900Z
LOCATION:
SUMMARY:Fabian Uecker (Geburtstag)
DESCRIPTION: 2002
END:VEVENT
END:VCALENDAR