BEGIN:VCALENDAR
VERSION:2.0
PRODID:-//eventon.com NONSGML v1.0//EN
BEGIN:VEVENT
UID:69e9b06942419
DTSTAMP:20260423T053849
DTSTART:20640609T000000Z
DTEND:20640609T235900Z
LOCATION:
SUMMARY:Fabian Uecker (Geburtstag)
DESCRIPTION: 2002
END:VEVENT
END:VCALENDAR