BEGIN:VCALENDAR
VERSION:2.0
PRODID:-//eventon.com NONSGML v1.0//EN
BEGIN:VEVENT
UID:69e7e599c0c61
DTSTAMP:20260421T210113
DTSTART:20440609T000000Z
DTEND:20440609T235900Z
LOCATION:
SUMMARY:Fabian Uecker (Geburtstag)
DESCRIPTION: 2002
END:VEVENT
END:VCALENDAR