BEGIN:VCALENDAR
VERSION:2.0
PRODID:-//eventon.com NONSGML v1.0//EN
BEGIN:VEVENT
UID:69e74d96762dc
DTSTAMP:20260421T101238
DTSTART:20370609T000000Z
DTEND:20370609T235900Z
LOCATION:
SUMMARY:Fabian Uecker (Geburtstag)
DESCRIPTION: 2002
END:VEVENT
END:VCALENDAR