BEGIN:VCALENDAR
VERSION:2.0
PRODID:-//eventon.com NONSGML v1.0//EN
BEGIN:VEVENT
UID:69e738ec85737
DTSTAMP:20260421T084428
DTSTART:20360609T000000Z
DTEND:20360609T235900Z
LOCATION:
SUMMARY:Fabian Uecker (Geburtstag)
DESCRIPTION: 2002
END:VEVENT
END:VCALENDAR