BEGIN:VCALENDAR
VERSION:2.0
PRODID:-//eventon.com NONSGML v1.0//EN
BEGIN:VEVENT
UID:69ecb4bb4689b
DTSTAMP:20260425T123403
DTSTART:19700101T000000Z
DTEND:19700101T000000Z
LOCATION:
SUMMARY:Thomas Fritsch (Geburtstag)
DESCRIPTION: 1976
END:VEVENT
END:VCALENDAR