BEGIN:VCALENDAR
VERSION:2.0
PRODID:-//eventon.com NONSGML v1.0//EN
BEGIN:VEVENT
UID:69e9f20350a14
DTSTAMP:20260423T101843
DTSTART:20370604T000000Z
DTEND:20370604T235900Z
LOCATION:
SUMMARY:Thomas Fritsch (Geburtstag)
DESCRIPTION: 1976
END:VEVENT
END:VCALENDAR