BEGIN:VCALENDAR
VERSION:2.0
PRODID:-//eventon.com NONSGML v1.0//EN
BEGIN:VEVENT
UID:69e8c7e51115a
DTSTAMP:20260422T130645
DTSTART:19721008T000000Z
DTEND:19721008T235900Z
LOCATION:
SUMMARY:Tino Heider (Geburtstag)
DESCRIPTION: 1971
END:VEVENT
END:VCALENDAR